BEGIN:VCALENDAR
VERSION:2.0
PRODID:-//Kinesiologie Ute Ladewig - ECPv6.15.20//NONSGML v1.0//EN
CALSCALE:GREGORIAN
METHOD:PUBLISH
X-WR-CALNAME:Kinesiologie Ute Ladewig
X-ORIGINAL-URL:https://kinesiologie-ladewig.de
X-WR-CALDESC:Veranstaltungen für Kinesiologie Ute Ladewig
REFRESH-INTERVAL;VALUE=DURATION:PT1H
X-Robots-Tag:noindex
X-PUBLISHED-TTL:PT1H
BEGIN:VTIMEZONE
TZID:UTC
BEGIN:STANDARD
TZOFFSETFROM:+0000
TZOFFSETTO:+0000
TZNAME:UTC
DTSTART:20250101T000000
END:STANDARD
END:VTIMEZONE
BEGIN:VEVENT
DTSTART;TZID=UTC:20260121T170000
DTEND;TZID=UTC:20260121T190000
DTSTAMP:20260419T200351
CREATED:20250225T160046Z
LAST-MODIFIED:20260127T140739Z
UID:550-1769014800-1769022000@kinesiologie-ladewig.de
SUMMARY:Wenn die Konzentration flöten geht … Brain Gym® in der Schule
DESCRIPTION:Wenn die Konzentration flöten geht … Brain Gym® in der Schule - Anmeldung\nWenn die Konzentration flöten geht … Brain Gym® in der Schule - Anmeldung\n\n\n\n\n\n\n\n	Vorname\n		*\n	\n	\n	\n	\n\n\n	Name\n		*\n	\n	\n	\n	\n\n\n	Institution\n		*\n	\n	\n	\n	\n\n\n	E-Mail\n		*\n	\n	\n	\n	\n\n\n	Telefon / Mobil\n		\n	\n	\n	\n	\n\nRechnungsadresse\n\n	Strasse\n		*\n	\n	\n	\n	\n\n\n	PLZ\n		*\n	\n	\n	\n	\n\n\n	Ort\n		*\n	\n	\n	\n	\n\n\n	Anmeldung\n		*\n	\n						\n			 Ich melde mich verbindlich für das Online- Seminar "Wenn die Konzentration flöten geht … Brain Gym® in der Schule" am 21. Januar 2026 an\n\n	\n	\n\n\n	\nSenden\n\n\n\n\n\n	\n			\n			\n				Falls Du menschlich bist\, lasse dieses Feld leer.
URL:https://kinesiologie-ladewig.de/event/wenn-die-konzentration-floeten-geht-brain-gym-in-der-schule-2/
LOCATION:Online
CATEGORIES:Brain Gym
ATTACH;FMTTYPE=image/jpeg:https://kinesiologie-ladewig.de/wp-content/uploads/2025/03/A4A1354-Bearbeitet-scaled.jpg
END:VEVENT
END:VCALENDAR