BEGIN:VCALENDAR
VERSION:2.0
PRODID:-//Kinesiologie Ute Ladewig - ECPv6.15.20//NONSGML v1.0//EN
CALSCALE:GREGORIAN
METHOD:PUBLISH
X-WR-CALNAME:Kinesiologie Ute Ladewig
X-ORIGINAL-URL:https://kinesiologie-ladewig.de
X-WR-CALDESC:Veranstaltungen für Kinesiologie Ute Ladewig
REFRESH-INTERVAL;VALUE=DURATION:PT1H
X-Robots-Tag:noindex
X-PUBLISHED-TTL:PT1H
BEGIN:VTIMEZONE
TZID:UTC
BEGIN:STANDARD
TZOFFSETFROM:+0000
TZOFFSETTO:+0000
TZNAME:UTC
DTSTART:20240101T000000
END:STANDARD
END:VTIMEZONE
BEGIN:VEVENT
DTSTART;TZID=UTC:20251001T193000
DTEND;TZID=UTC:20251001T210000
DTSTAMP:20260420T010824
CREATED:20250912T100156Z
LAST-MODIFIED:20250912T100156Z
UID:598-1759347000-1759352400@kinesiologie-ladewig.de
SUMMARY:Beweg dich und sei stolz auf dich
DESCRIPTION:Mit Brain Gym® wird es leichter\nEine Einführung für alle Interessierten
URL:https://kinesiologie-ladewig.de/event/beweg-dich-und-sei-stolz-auf-dich/
LOCATION:Online
CATEGORIES:Brain Gym
END:VEVENT
END:VCALENDAR