BEGIN:VCALENDAR
VERSION:2.0
PRODID:-//Kinesiologie Ute Ladewig - ECPv6.15.20//NONSGML v1.0//EN
CALSCALE:GREGORIAN
METHOD:PUBLISH
X-WR-CALNAME:Kinesiologie Ute Ladewig
X-ORIGINAL-URL:https://kinesiologie-ladewig.de
X-WR-CALDESC:Veranstaltungen für Kinesiologie Ute Ladewig
REFRESH-INTERVAL;VALUE=DURATION:PT1H
X-Robots-Tag:noindex
X-PUBLISHED-TTL:PT1H
BEGIN:VTIMEZONE
TZID:UTC
BEGIN:STANDARD
TZOFFSETFROM:+0000
TZOFFSETTO:+0000
TZNAME:UTC
DTSTART:20240101T000000
END:STANDARD
END:VTIMEZONE
BEGIN:VEVENT
DTSTART;TZID=UTC:20250929T080000
DTEND;TZID=UTC:20251005T180000
DTSTAMP:20260422T034816
CREATED:20250913T074921Z
LAST-MODIFIED:20250913T074921Z
UID:600-1759132800-1759687200@kinesiologie-ladewig.de
SUMMARY:Einzelcoaching Brain Gym®
DESCRIPTION:für Kinder\, Schüler*innen und Erwachsene\n!!! 49\,-€ statt 69\,-€ !!!
URL:https://kinesiologie-ladewig.de/event/einzelcoaching-brain-gym/
LOCATION:40885 Ratingen\, Kuckelter Weg 40\, Kuckelter Weg 40\, Ratingen\, NRW\, 40885\, Germany
CATEGORIES:Brain Gym
ATTACH;FMTTYPE=image/jpeg:https://kinesiologie-ladewig.de/wp-content/uploads/2025/09/A4A1208-Bearbeitet.jpg
END:VEVENT
END:VCALENDAR